BEGIN:VCALENDAR
VERSION:2.0
PRODID:-//BEWUSST IM LEBEN - ECPv6.8.1//NONSGML v1.0//EN
CALSCALE:GREGORIAN
METHOD:PUBLISH
X-ORIGINAL-URL:https://bewusst-im-leben.de
X-WR-CALDESC:Veranstaltungen für BEWUSST IM LEBEN
REFRESH-INTERVAL;VALUE=DURATION:PT1H
X-Robots-Tag:noindex
X-PUBLISHED-TTL:PT1H
BEGIN:VTIMEZONE
TZID:Europe/Berlin
BEGIN:DAYLIGHT
TZOFFSETFROM:+0100
TZOFFSETTO:+0200
TZNAME:CEST
DTSTART:20240331T010000
END:DAYLIGHT
BEGIN:STANDARD
TZOFFSETFROM:+0200
TZOFFSETTO:+0100
TZNAME:CET
DTSTART:20241027T010000
END:STANDARD
END:VTIMEZONE
BEGIN:VEVENT
DTSTART;TZID=Europe/Berlin:20240627T180000
DTEND;TZID=Europe/Berlin:20240627T200000
DTSTAMP:20260421T055802
CREATED:20241017T160051Z
LAST-MODIFIED:20240707T161614Z
UID:965-1719511200-1719518400@bewusst-im-leben.de
SUMMARY:Die Welt aus Sicht deiner Seele - kostenfreies Angebot
DESCRIPTION:Info und Beschreibung folgt in Kürze. \nHier kannst du dich anmelden.
URL:https://bewusst-im-leben.de/event/info-abend/
LOCATION:SOMOS\, Lindwurmstr. 92a\, München\, 80337\, Deutschland
ATTACH;FMTTYPE=image/jpeg:https://bewusst-im-leben.de/wp-content/uploads/IMG_2512-scaled.jpeg
ORGANIZER;CN="Brigitte Soller":MAILTO:info@bewusst-im-leben.de
END:VEVENT
END:VCALENDAR