BEGIN:VCALENDAR
VERSION:2.0
PRODID:-//BEWUSST IM LEBEN - ECPv6.8.1//NONSGML v1.0//EN
CALSCALE:GREGORIAN
METHOD:PUBLISH
X-WR-CALNAME:BEWUSST IM LEBEN
X-ORIGINAL-URL:https://bewusst-im-leben.de
X-WR-CALDESC:Veranstaltungen für BEWUSST IM LEBEN
REFRESH-INTERVAL;VALUE=DURATION:PT1H
X-Robots-Tag:noindex
X-PUBLISHED-TTL:PT1H
BEGIN:VTIMEZONE
TZID:Europe/Berlin
BEGIN:DAYLIGHT
TZOFFSETFROM:+0100
TZOFFSETTO:+0200
TZNAME:CEST
DTSTART:20240331T010000
END:DAYLIGHT
BEGIN:STANDARD
TZOFFSETFROM:+0200
TZOFFSETTO:+0100
TZNAME:CET
DTSTART:20241027T010000
END:STANDARD
END:VTIMEZONE
BEGIN:VEVENT
DTSTART;TZID=Europe/Berlin:20241113T170000
DTEND;TZID=Europe/Berlin:20241113T180000
DTSTAMP:20260420T220841
CREATED:20240718T140347Z
LAST-MODIFIED:20240718T172352Z
UID:1062-1731517200-1731520800@bewusst-im-leben.de
SUMMARY:Progressive Muskelentspannung nach Jacobsen in der Salzgrotte in Kissing
DESCRIPTION:„Mit Stress umgehen – im täglichen Leben“\nDie Progressiven Muskelentspannung (auch kurz PME oder PMR genannt) zählt zu den am häufigsten angewendeten und am besten erforschten Entspannungsverfahren. \nDurch willentliche bewusste An- und Entspannung ausgewählter Muskelgruppen kann ein Entspannungszustand des ganzen Körpers erreicht werden. \nSie lässt sich unter fast allen Bedingungen durchführen\, sei es abends vor dem Einschlafen\, vor einem Termin\, während einer Besprechung\, in Prüfungssituationen\, im Büro\, im Zug/Flugzeug  oder auch \nbesonders wirkungsvoll in Kombination mit einer Salzgrottensitzung. \nDiese Entspannungsmethode dient zur allgemeinen Gesundheitsprophylaxe\, Stressminderung mit dem Ziel die eigene Fähigkeit Stress- und Belastungssituationen gut selbst regulieren zu können und somit entspannt\, ruhig ausgeglichen und gelassen zu sein. \nEs sind keine Hilfsmittel nötig. Die Methode ist relativ leicht und schnell erlernbar und überall und vielseitig einsetzbar. \nWeitere positive Einsatzmöglichkeiten sind:\n\nAngststörungen\nPsychosomatischen Beschwerden\nSpannungskopfschmerzen\nSchlafstörungen\nLernschwierigkeiten\n\n\nIch freue mich dir (d)einen Weg zur Entspannung näher zu bringen.\n  \nBrigitte Soller\nHeilpraktikerin für Psychotherapie\, sowie Körper- und Entspannungstherapeutin \n  \nOrt: Lea Vitalhaus Kissing\, St.-Bernhard-Straße 1\, 86438 Kissing \nBeginn: 17:00 Uhr –  18:00 Uhr \nKosten: EUR 21 inkl. Salzgrottensitzung – zahlbar vor Ort \nAnmeldung:\nDirekt am Veranstaltungsort  Lea Vitalhaus in Kissing – Tel 0 82 33 / 8 47 08 92 \n  \nEine Empfehlung: Im gemütlichen Lea Vitalhaus Cafe gibt sehr guten Cafe und Kuchen. \n  \nHier kannst du dich direkt anmelden! \n  \nAnreise: \nVon München:\nMit dem Regional Express ist Kissing in nur 35 Minuten vom Hauptbahnhof bequem erreichbar. \nVom Bahnhof Kissing zum Lea Vitalhaus sind es ca. 7 Minuten Fußweg.
URL:https://bewusst-im-leben.de/event/progressive-muskelentspannung-nach-jacobsen-in-der-salzgrotte-in-kissing-3/
LOCATION:Privat: Lea Vitalhaus\, St-Bernhard-Straße 1\, Kissing\, 86438\, Deutschland
ATTACH;FMTTYPE=image/png:https://bewusst-im-leben.de/wp-content/uploads/3-3.png
END:VEVENT
BEGIN:VEVENT
DTSTART;TZID=Europe/Berlin:20241121T170000
DTEND;TZID=Europe/Berlin:20241121T190000
DTSTAMP:20260420T220841
CREATED:20241023T182756Z
LAST-MODIFIED:20241101T065116Z
UID:1402-1732208400-1732215600@bewusst-im-leben.de
SUMMARY:"Die Welt aus Sicht deiner Seele" - in München
DESCRIPTION:Der Abend richtet sich an all die Menschen\, die gerade auf der Suche nach Antworten in ihrem Leben sind. \n\nEs gibt so viele Fragen\, die Menschen auf dem Herzen haben.\nFragen zum Leben\, zu Liebe\, zu Glück\, zu Motivation oder zu Leichtigkeit im Leben. \n  \nWie ist es gerade bei dir?\nKennst du deine Bedürfnisse für ein erfülltes Leben? \nWonach sehnst du dich und warum fällt es dir gerade jetzt so schwer dies zu leben? \nVielleicht jonglierst du gerade in deinem Alltag zwischen Job\, Familie oder Partnerschaft hin und her\, du willst es allen recht machen\, dabei merkst du wie es dich echt viel Kraft und Energie kostet. \nUnd vielleicht kommst du schon an den Punkt\, wo du dir diese Frage stellst: \n  \nWER BIN ICH eigentlich und WIE und MIT WEM möchte ich mein Leben (er)füllen?\n  \nMeist kommt diese Frage irgendwann und dann kann man sie auch kaum mehr ignorieren. \nNämlich genau bis zu dem Zeitpunkt\, wo du dir dann SELBST BEWUSST WIRST \, dass du anders leben möchtest.\nJetzt spürst du deine innere Unzufriedenheit und begibst dich letztendlich auf die Suche\, um etwas zu ändern. \nDabei können dir weder Bücher noch teure Seminare oder ähnliche Angebote wirklich helfen. Sie bringen oftmals nur kurzfristig scheinbar eine Lösung. \nDas ist genau der Punkt\, wo die eigene Erkenntnis vorankommen muss.\n  \nDenn da gibt es noch mehr im Leben\, was es zu entdecken gibt. \n  \nUnd dabei stellt stellt sich dann die Frage\, was hält dich gerade jetzt davon ab\,  in allen Bereichen glücklich und IN-FRIEDEN zu leben? \n  \n\nDer kostenfreie Abend im Austausch mit Hans-Jürgen ermöglicht es dir\n„Die Welt aus Sicht deiner Seele“  und die Zusammenhänge zu sehen und dabei wichtige Erkenntnisse zu erlangen.\n\n  \n\nEs gibt dir einen Einblick darüber\, welche Stolpersteine im „Leben“ noch vorhanden sind\, um dich letztendlich dazu zu bringen wieder deinen eigenen Weg zu finden und auch bewusst zu gehen.\n\n  \n\nUnd die Hinweise an diesem Abend können dir auch dabei helfen zu verstehen\, was es braucht um FRIEDEN zu erlangen.\n\n  \nAnkündigung \nIch freue mich\, Hans-Jürgen als besonderen Gast begrüßen zu dürfen. Als Spezialist für Seelenführung steht er Dir an diesem Abend Rede und Antwort. Mit seinen paranormalen Begabungen und einem multidimensionalen Bewusstsein begleitet er Menschen\, die auf der Suche nach Antworten und Unterstützung in ihrem Leben sind. Dank seiner außergewöhnlichen Fähigkeiten und tiefen Verbindung zu den feinstofflichen Ebenen hilft er\, innere Prozesse zu erkennen und persönliche Wandlung zu fördern. \nDieser Abend bietet Dir die Möglichkeit\, Fragen zu stellen\, neue Perspektiven zu gewinnen und Inspiration für Deinen eigenen Weg der Veränderung und Bewusstseinsentwicklung zu erhalten. Willst Du diese einzigartige und bereichernde Begegnung\, dann reserviere Dir deinen Platz! \n\nEs ist ein offener Austausch um einen größeren und ganzheitlichen Blickwinkel offen zu begegnen. \nKein Coaching • Kein Vortrag • Keine Esoterik. \nEs ist ein Gemeinsames zu-Hören\, Reden\, Nachdenken und der Wunsch mehr verstehen zu wollen. \n  \nDazu laden wir dich ganz herzlich ein dabei zu sein! \nDeine Heilpraktikerin für Psychotherapie\nBrigitte Soller \nAnmeldung: ist erforderlich wegen begrenzter Platzkapazität. \nMax 10 TN \nOrt: SOMOS-Sendling im Praxisraum Brigitte Soller \nEingang über den Hinterhof \nKosten: auf Spendenbasis \n 
URL:https://bewusst-im-leben.de/event/die-welt-aus-sicht-deiner-seele-in-muenchen-2/
LOCATION:Somos-Sendling\, Lindwurmstr. 92a\, München\, 80337\, Deutschland
ATTACH;FMTTYPE=image/png:https://bewusst-im-leben.de/wp-content/uploads/16x9-Webseite-Nebenan.de-16-x-9-cm-Kopie-2.png
END:VEVENT
BEGIN:VEVENT
DTSTART;TZID=Europe/Berlin:20241129T170000
DTEND;TZID=Europe/Berlin:20241129T190000
DTSTAMP:20260420T220841
CREATED:20241014T150045Z
LAST-MODIFIED:20241120T194044Z
UID:1361-1732899600-1732906800@bewusst-im-leben.de
SUMMARY:Esoterik hinterfragt: Wahrheit\, Wirkung und Irrwege
DESCRIPTION:In der heutigen Zeit gibt es eine Fülle an esoterischen Angeboten\, die versprechen\, seelische und geistige Themen zu lösen. Doch wie erkennt man\, was wirklich hilft – und was vielleicht sogar schadet? \nVielleicht hast du bereits erste Erfahrungen mit esoterischen Methoden gemacht oder bist gerade auf der Suche nach alternativen Lösungen für deine Beschwerden. Oder du befindest dich in einer Lebensphase\, in der du Antworten suchst: Welche Entscheidungen sind richtig für mich? Wie geht es in meinem Leben weiter? Welche Rolle spielen bestimmte Menschen oder Ereignisse? \nDie Esoterik-Szene scheint für alles eine Lösung zu bieten: \n\nTarot\, Lenormand\, Channeling\nMediumarbeit\, Wahrsagerei\, Zukunftsdeutung\nHypnose\, systemische Aufstellungen\, Aura-Chirurgie\nKundalini-Arbeit\, Chakren-Reinigung\, Affirmationen\nBestellungen beim Universum\, okkulte Rituale\n\nDoch wie wirken diese Methoden wirklich? Was passiert auf energetischer Ebene? Und: Stimmen sie mit kosmischen oder göttlichen Gesetzmäßigkeiten überein? \nIn unserem Workshop nehmen wir die Esoterik kritisch unter die Lupe. Gemeinsam wollen wir Denkanstöße geben\, diskutieren und uns austauschen. Dabei gehen wir unter anderem auf folgende Fragen ein: \n\nWelche energetischen Wirkungen können solche Methoden auf Körper\, Geist und Seele haben?\nWie hängen Esoterik und die kosmischen Gesetze – insbesondere Ursache und Wirkung – zusammen?\nWarum solltest du deine Antworten nicht selbst(-bewusst) suchen und finden?\nWie kannst du entscheiden\, was für dich wirklich richtig ist?\n\nEin Abend für Klarheit und Orientierung\nIch freue mich\, Hans-Jürgen als Gast begrüßen zu dürfen. Als Spezialist für Seelenführung begleitet er Menschen dabei\, Antworten auf wichtige Lebensfragen zu finden. Mit seinen paranormalen Begabungen und seinem multidimensionalen Bewusstsein hilft er\, innere Prozesse zu erkennen und persönliche Wandlungen zu fördern. \nDieser Abend bietet dir die Möglichkeit\, deine Fragen zu stellen\, neue Perspektiven zu gewinnen und Inspiration für deinen eigenen Weg zu erhalten. \nKein Coaching. Kein Vortrag. Keine Esoterik.\nEs geht um gemeinsames Zuhören\, Reden und Verstehen – mit dem Ziel\, mehr Klarheit über die Welt der Esoterik und ihre Auswirkungen zu gewinnen. \nOrt und Anmeldung\nDer kostenfreie Workshop findet statt:\nWann: 29.November 2024 von 17:00 bis 19:00 Uhr\nWo: „mia-Raum für Begegnung“ – Steinkirchner Str. 27 –  81475 München \nDirekt an der Bus/U-Bahn Haltestelle Fürstenried-West. Parkplätze in umliegenden Nebenstraßen oder auf dem P&R-Parkplatz Fürstenried-West. \nDie Teilnehmerzahl ist begrenzt – bitte melde dich rechtzeitig an! \nIch freue mich auf dich!\nDeine Heilpraktikerin für Psychotherapie\nBrigitte Soller
URL:https://bewusst-im-leben.de/event/esoterik-richtig-verstanden/
LOCATION:mia-Raum für Begegnung\, Steinkirchnerstr. 27\, München\, 81475\, Deutschland
ATTACH;FMTTYPE=image/png:https://bewusst-im-leben.de/wp-content/uploads/16x9-Webseite-Nebenan.de-16-x-9-cm-16-x-9-cm-2.png
END:VEVENT
END:VCALENDAR